BEGIN:VCALENDAR
VERSION:2.0
PRODID:-//Main-Philharmonie - ECPv6.15.20//NONSGML v1.0//EN
CALSCALE:GREGORIAN
METHOD:PUBLISH
X-WR-CALNAME:Main-Philharmonie
X-ORIGINAL-URL:https://mainphil.de
X-WR-CALDESC:Veranstaltungen für Main-Philharmonie
REFRESH-INTERVAL;VALUE=DURATION:PT1H
X-Robots-Tag:noindex
X-PUBLISHED-TTL:PT1H
BEGIN:VTIMEZONE
TZID:Europe/Berlin
BEGIN:DAYLIGHT
TZOFFSETFROM:+0100
TZOFFSETTO:+0200
TZNAME:CEST
DTSTART:20220327T010000
END:DAYLIGHT
BEGIN:STANDARD
TZOFFSETFROM:+0200
TZOFFSETTO:+0100
TZNAME:CET
DTSTART:20221030T010000
END:STANDARD
BEGIN:DAYLIGHT
TZOFFSETFROM:+0100
TZOFFSETTO:+0200
TZNAME:CEST
DTSTART:20230326T010000
END:DAYLIGHT
BEGIN:STANDARD
TZOFFSETFROM:+0200
TZOFFSETTO:+0100
TZNAME:CET
DTSTART:20231029T010000
END:STANDARD
BEGIN:DAYLIGHT
TZOFFSETFROM:+0100
TZOFFSETTO:+0200
TZNAME:CEST
DTSTART:20240331T010000
END:DAYLIGHT
BEGIN:STANDARD
TZOFFSETFROM:+0200
TZOFFSETTO:+0100
TZNAME:CET
DTSTART:20241027T010000
END:STANDARD
END:VTIMEZONE
BEGIN:VEVENT
DTSTART;TZID=Europe/Berlin:20230701T160000
DTEND;TZID=Europe/Berlin:20230701T160000
DTSTAMP:20260422T080310
CREATED:20230123T164331Z
LAST-MODIFIED:20230518T164953Z
UID:4433-1688227200-1688227200@mainphil.de
SUMMARY:Peter und der Wolf
DESCRIPTION:Musikmärchen Peter und der Wolf (Sergei Prokofjew) in einer szenischen Version für Bläserquintett\, Puppentheater und Erzähler. Theater: Laubacher Figurentheater\, Erzähler: Thomas Gabriel. Die Veranstaltung findet im Rahmen des Abonnements Kultursommer im ChamissoGarten statt. \nDie Idee\, das musikalische Märchen „Peter und der Wolf“ in einer Aufführung mit Erzähler\, Figurenspiel und Livemusik zu kombinieren\, erschien uns sehr spannend. Die Kombination der drei Darbietungsformen lässt die Geschichte wirklich lebendig und greifbar werden. Sie regt die Fantasie der kleinen Zuschauer und Zuhörer an und ist für alle Beteiligte ein großer Spaß und ein besonderes Erlebnis. Bereits 2009 entstand die Zusammenarbeit mit Klaus Dreier\, der mit seinem Laubacher Figurentheater eigens für die Produktion Puppen anfertigte. 2023 kommt Thomas Gabriel hinzu\, der die spannende Geschichte vorträgt.
URL:https://mainphil.de/termin/peter-und-der-wolf-chamissogarten/
LOCATION:Chamisso-Garten\, Frankfurt\, Chamissostraße 38\, Frankfurt\, 60431
CATEGORIES:Bläser,Musiktheater
ATTACH;FMTTYPE=image/jpeg:https://mainphil.de/wp-content/uploads/2023/01/flexi-Quintett-Peter-und-der-Wolf.jpg
END:VEVENT
BEGIN:VEVENT
DTSTART;TZID=Europe/Berlin:20230701T200000
DTEND;TZID=Europe/Berlin:20230701T200000
DTSTAMP:20260422T080310
CREATED:20230626T133221Z
LAST-MODIFIED:20230626T133221Z
UID:4529-1688241600-1688241600@mainphil.de
SUMMARY:Beethoven: Messe C-Dur
DESCRIPTION:Beethovens Messe in C steht im Schatten seiner späteren „Missa Solemnis“. Doch sie ist eine wegweisende Komposition\, die den alten polyphonen Stil und die Musik Mozarts und Haydns respektvoll verarbeitet und doch ganz neue Wege von der Klassik in die Romantik weist. Beethovens Deutung des Messetextes wendet sich ganz dem Menschen zu. Seine C-Dur-Messe ist ein eindrückliches Werk voll starker Gefühle. \nKantorei St. Jakob\, Main-Philharmonie\, Solisten: Rahel Luserke (Sopran)\, Rebekka Stolz (Alt)\, Johannes Mayer (Tenor)\, Sebastian Kitzinger (Bass). Leitung: Katharina Götz.
URL:https://mainphil.de/termin/beethoven-messe-c-dur/
LOCATION:Kirche St. Jakob\, Frankfurt\, Kirchplatz 9\, Frankfurt am Main (Bockenheim)\, 60487\, Deutschland
CATEGORIES:Chor,Großes Orchester,Kirche,Solisten
ATTACH;FMTTYPE=image/jpeg:https://mainphil.de/wp-content/uploads/2023/06/202307-Plakat-Beethoven-Banner.jpg
END:VEVENT
BEGIN:VEVENT
DTSTART;TZID=Europe/Berlin:20230702T180000
DTEND;TZID=Europe/Berlin:20230702T180000
DTSTAMP:20260422T080310
CREATED:20230626T133247Z
LAST-MODIFIED:20230626T133247Z
UID:4534-1688320800-1688320800@mainphil.de
SUMMARY:Beethoven: Messe C-Dur
DESCRIPTION:Beethovens Messe in C steht im Schatten seiner späteren „Missa Solemnis“. Doch sie ist eine wegweisende Komposition\, die den alten polyphonen Stil und die Musik Mozarts und Haydns respektvoll verarbeitet und doch ganz neue Wege von der Klassik in die Romantik weist. Beethovens Deutung des Messetextes wendet sich ganz dem Menschen zu. Seine C-Dur-Messe ist ein eindrückliches Werk voll starker Gefühle. \nKantorei St. Jakob\, Main-Philharmonie\, Solisten: Rahel Luserke (Sopran)\, Rebekka Stolz (Alt)\, Johannes Mayer (Tenor)\, Sebastian Kitzinger (Bass). Leitung: Katharina Götz.
URL:https://mainphil.de/termin/beethoven-messe-c-dur-2/
LOCATION:Kirche St. Jakob\, Frankfurt\, Kirchplatz 9\, Frankfurt am Main (Bockenheim)\, 60487\, Deutschland
CATEGORIES:Chor,Großes Orchester,Kirche,Solisten
ATTACH;FMTTYPE=image/jpeg:https://mainphil.de/wp-content/uploads/2023/06/202307-Plakat-Beethoven-Banner.jpg
END:VEVENT
END:VCALENDAR